BEGIN:VCALENDAR
VERSION:2.0
PRODID:-//TC Ückendorf 1975 - ECPv6.15.20//NONSGML v1.0//EN
CALSCALE:GREGORIAN
METHOD:PUBLISH
X-WR-CALNAME:TC Ückendorf 1975
X-ORIGINAL-URL:https://new.tc-ueckendorf.de
X-WR-CALDESC:Veranstaltungen für TC Ückendorf 1975
REFRESH-INTERVAL;VALUE=DURATION:PT1H
X-Robots-Tag:noindex
X-PUBLISHED-TTL:PT1H
BEGIN:VTIMEZONE
TZID:Europe/Paris
BEGIN:DAYLIGHT
TZOFFSETFROM:+0100
TZOFFSETTO:+0200
TZNAME:CEST
DTSTART:20250330T010000
END:DAYLIGHT
BEGIN:STANDARD
TZOFFSETFROM:+0200
TZOFFSETTO:+0100
TZNAME:CET
DTSTART:20251026T010000
END:STANDARD
BEGIN:DAYLIGHT
TZOFFSETFROM:+0100
TZOFFSETTO:+0200
TZNAME:CEST
DTSTART:20260329T010000
END:DAYLIGHT
BEGIN:STANDARD
TZOFFSETFROM:+0200
TZOFFSETTO:+0100
TZNAME:CET
DTSTART:20261025T010000
END:STANDARD
BEGIN:DAYLIGHT
TZOFFSETFROM:+0100
TZOFFSETTO:+0200
TZNAME:CEST
DTSTART:20270328T010000
END:DAYLIGHT
BEGIN:STANDARD
TZOFFSETFROM:+0200
TZOFFSETTO:+0100
TZNAME:CET
DTSTART:20271031T010000
END:STANDARD
END:VTIMEZONE
BEGIN:VEVENT
DTSTART;TZID=Europe/Paris:20260418T100000
DTEND;TZID=Europe/Paris:20260418T180000
DTSTAMP:20260423T103517
CREATED:20260202T152316Z
LAST-MODIFIED:20260202T154611Z
UID:1578-1776506400-1776535200@new.tc-ueckendorf.de
SUMMARY:Frühjahrsputz 2026
DESCRIPTION:Wir bitten zahlreiche Mitglieder um tatkräftige Unterstützung\, damit die Arbeit auf möglichst vielen Schultern verteilt werden kann. \n1. Terminblock \n\nFreitag\, 17.04.2026\, ab 14:00 Uhr\nSamstag\, 18.04.2026\, ab 10:00 Uhr\n\n2. Terminblock \n\nFreitag\, 24.04.2026\, ab 14:00 Uhr\nSamstag\, 25.04.2026\, ab 10:00 Uhr\n\nAlso – ein idealer Zeitpunkt um sich einzubringen\, nette Vereinskollegen und -innen kennen zu lernen und zudem noch Arbeitsstunden abzuleisten.
URL:https://new.tc-ueckendorf.de/event/fruehjahrsputz-2026-2
END:VEVENT
END:VCALENDAR